BEGIN:VCALENDAR
VERSION:2.0
PRODID:-//Saints Simon &amp; Jude Catholic Church - ECPv6.15.12.2//NONSGML v1.0//EN
CALSCALE:GREGORIAN
METHOD:PUBLISH
X-ORIGINAL-URL:https://www.ssj.org
X-WR-CALDESC:Events for Saints Simon &amp; Jude Catholic Church
REFRESH-INTERVAL;VALUE=DURATION:PT1H
X-Robots-Tag:noindex
X-PUBLISHED-TTL:PT1H
BEGIN:VTIMEZONE
TZID:America/Los_Angeles
BEGIN:DAYLIGHT
TZOFFSETFROM:-0800
TZOFFSETTO:-0700
TZNAME:PDT
DTSTART:20250309T100000
END:DAYLIGHT
BEGIN:STANDARD
TZOFFSETFROM:-0700
TZOFFSETTO:-0800
TZNAME:PST
DTSTART:20251102T090000
END:STANDARD
BEGIN:DAYLIGHT
TZOFFSETFROM:-0800
TZOFFSETTO:-0700
TZNAME:PDT
DTSTART:20260308T100000
END:DAYLIGHT
BEGIN:STANDARD
TZOFFSETFROM:-0700
TZOFFSETTO:-0800
TZNAME:PST
DTSTART:20261101T090000
END:STANDARD
BEGIN:DAYLIGHT
TZOFFSETFROM:-0800
TZOFFSETTO:-0700
TZNAME:PDT
DTSTART:20270314T100000
END:DAYLIGHT
BEGIN:STANDARD
TZOFFSETFROM:-0700
TZOFFSETTO:-0800
TZNAME:PST
DTSTART:20271107T090000
END:STANDARD
END:VTIMEZONE
BEGIN:VEVENT
DTSTART;TZID=America/Los_Angeles:20260825T183000
DTEND;TZID=America/Los_Angeles:20260825T203000
DTSTAMP:20260425T115617
CREATED:20260416T191428Z
LAST-MODIFIED:20260416T191511Z
UID:10000874-1787682600-1787689800@www.ssj.org
SUMMARY:Tacos & Theology
DESCRIPTION:All men 18+ are invited to 4 Son’s Brewery in Huntington Beach for fellowship and theology!  Tacos & Theology is for men who want to share their faith life in a fun\, relaxed\, and casual atmosphere. The evenings include casual conversation\, a speaker\, and small group discussion. Please RSVP!
URL:https://www.ssj.org/event/tacos-theology-6/2026-08-25/
LOCATION:4 Sons Brewing\, 18421 Gothard St Suite 100 8\, Huntington Beach\, CA\, 92646\, United States
ATTACH;FMTTYPE=image/png:https://www.ssj.org/wp-content/uploads/2025/06/Tacos-.png
END:VEVENT
BEGIN:VEVENT
DTSTART;TZID=America/Los_Angeles:20260827T183000
DTEND;TZID=America/Los_Angeles:20260827T203000
DTSTAMP:20260425T115617
CREATED:20260416T192534Z
LAST-MODIFIED:20260416T192536Z
UID:10000884-1787855400-1787862600@www.ssj.org
SUMMARY:Tapas & Theology
DESCRIPTION:All women18+ are invited to 4 Son’s Brewery in Huntington Beach for fellowship and theology!  Tapas is for women who want to share their faith life in a fun\, relaxed\, and casual atmosphere. The evenings include casual conversation\, a speaker\, and small group discussion. Please RSVP!
URL:https://www.ssj.org/event/tapas-theology-8/2026-08-27/
LOCATION:4 Sons Brewing\, 18421 Gothard St Suite 100 8\, Huntington Beach\, CA\, 92646\, United States
ATTACH;FMTTYPE=image/png:https://www.ssj.org/wp-content/uploads/2025/06/Untitled-design-34.png
END:VEVENT
END:VCALENDAR