BEGIN:VCALENDAR
VERSION:2.0
PRODID:-//Saints Simon &amp; Jude Catholic Church - ECPv6.15.12.2//NONSGML v1.0//EN
CALSCALE:GREGORIAN
METHOD:PUBLISH
X-WR-CALNAME:Saints Simon &amp; Jude Catholic Church
X-ORIGINAL-URL:https://www.ssj.org
X-WR-CALDESC:Events for Saints Simon &amp; Jude Catholic Church
REFRESH-INTERVAL;VALUE=DURATION:PT1H
X-Robots-Tag:noindex
X-PUBLISHED-TTL:PT1H
BEGIN:VTIMEZONE
TZID:America/Los_Angeles
BEGIN:DAYLIGHT
TZOFFSETFROM:-0800
TZOFFSETTO:-0700
TZNAME:PDT
DTSTART:20250309T100000
END:DAYLIGHT
BEGIN:STANDARD
TZOFFSETFROM:-0700
TZOFFSETTO:-0800
TZNAME:PST
DTSTART:20251102T090000
END:STANDARD
BEGIN:DAYLIGHT
TZOFFSETFROM:-0800
TZOFFSETTO:-0700
TZNAME:PDT
DTSTART:20260308T100000
END:DAYLIGHT
BEGIN:STANDARD
TZOFFSETFROM:-0700
TZOFFSETTO:-0800
TZNAME:PST
DTSTART:20261101T090000
END:STANDARD
BEGIN:DAYLIGHT
TZOFFSETFROM:-0800
TZOFFSETTO:-0700
TZNAME:PDT
DTSTART:20270314T100000
END:DAYLIGHT
BEGIN:STANDARD
TZOFFSETFROM:-0700
TZOFFSETTO:-0800
TZNAME:PST
DTSTART:20271107T090000
END:STANDARD
END:VTIMEZONE
BEGIN:VEVENT
DTSTART;TZID=America/Los_Angeles:20260417T000000
DTEND;TZID=America/Los_Angeles:20260517T235959
DTSTAMP:20260420T140236
CREATED:20260417T190314Z
LAST-MODIFIED:20260417T192052Z
UID:10000886-1776384000-1779062399@www.ssj.org
SUMMARY:The Shroud of Turin: Registration
DESCRIPTION:The Shroud of Turin: An Immersive Experience \n\n\n\nJoin the Saints Simon and Jude parish group for a special tour with Fr. Reynold on Sunday\, June 14 at 2:30 PM at the Diocese of Orange\, featuring The Shroud of Turin: An Immersive Experience. \n\n\n\nThis groundbreaking exhibit offers a unique opportunity to encounter one of the most studied and mysterious relics in Christian history. Our group will enter at a reserved time and journey together through immersive theaters and museum spaces designed to deepen our understanding of the Shroud. The experience lasts approximately 90 minutes and includes time to explore sacred artifacts\, as well as a full-length replica of the Shroud that has captivated believers and scholars for centuries. \n\n\n\nAdult Tickets $17 \n\n\n\nSenior Tickets $15 \n\n\n\n\nSign Up Here!
URL:https://www.ssj.org/event/the-shroud-of-turin-an-immersive-experience/
ATTACH;FMTTYPE=image/png:https://www.ssj.org/wp-content/uploads/2026/04/Group-Tour-Sunday-June-14-at-230pm-4.png
END:VEVENT
BEGIN:VEVENT
DTSTART;TZID=America/Los_Angeles:20260417T000000
DTEND;TZID=America/Los_Angeles:20260531T235959
DTSTAMP:20260420T140236
CREATED:20260417T191310Z
LAST-MODIFIED:20260417T192139Z
UID:10000887-1776384000-1780271999@www.ssj.org
SUMMARY:VBS: Registration
DESCRIPTION:Join us for an unforgettable week of faith\, fun\, and friendship at Saints Simon & Jude’s Vacation Bible School (VBS)! This is a parish-wide event where all ages come together to serve\, learn\, and celebrate the Gospel and Jesus!  \n\n\n\n\nDates: Monday\, July 13 – Friday\, July 17\n\n\n\nTime: 9:00 AM – 12:00 PM \n\n\n\nLocation: Saints Simon & Jude Parish \n\n\n\n\nYou don’t need to be a parishioner to join—so invite a friend and share the VBS fun!  \n\n\n\nDONATE TO VBS\n\n\n\nCan’t help as a volunteer for VBS? No problem… you can still contribute in a huge way by supporting through snack donations. Sign Up Here to bring a snack!  \n\n\n\nWho Can Participate?  \n\n\n\n\nChildren (Preschool – 5th Grade) Open to kids entering Preschool (3 years & potty trained) through 5th grade in the fall.  Experience all the fun activities VBS has to offer! \n\n\n\n\n \n\n\n\n\nMiddle School & High School Volunteers Serve as role models\, leading small groups and assisting Adult Leaders at activity stations. \n\n\n\n\n \n\n\n\n\nAdult Volunteers Needed! Help make this incredible week possible by leading a VBS station! Opportunities include: Bible Adventures\, Imagination Station\, Sticky Scripture\, Snacks\, Crafts\, Sports & Games\, Preschool & Nursery  \n\n\n\n\nCome be a part of the BEST week of summer! Whether you’re a participant\, teen leader\, or adult volunteer\, VBS at SSJ is a week full of joy\, faith\, and lasting memories! We can’t wait to see you there! CLICK HERE to see the volunteer calendar! \n\n\n\nCan’t help as a volunteer for VBS? No problem… you can still contribute in a huge way by supporting through snack donations. Sign up to bring a snack!  \n\n\n\n\nCamper Registration\n\n\n\nTeen Volunteer\n\n\n\nAdult Volunteer\n\n\n\nBring a Snack!
URL:https://www.ssj.org/event/vbs/
ATTACH;FMTTYPE=image/png:https://www.ssj.org/wp-content/uploads/2026/04/Group-Tour-Sunday-June-14-at-230pm-3.png
END:VEVENT
BEGIN:VEVENT
DTSTART;TZID=America/Los_Angeles:20260504T180000
DTEND;TZID=America/Los_Angeles:20260504T193000
DTSTAMP:20260420T140236
CREATED:20260416T193800Z
LAST-MODIFIED:20260420T205930Z
UID:10000885-1777917600-1777923000@www.ssj.org
SUMMARY:Women Creating Community Spring Fling!
DESCRIPTION:Join us for a joyful evening of connection and inspiration at our Women Creating Community Spring Fling! On Monday\, May 4 at 6:00 pm in Colman Hall. \n\n\n\nWe will gather to celebrate life’s journey and the grace that guides us\, featuring a special reflection by Karen Mudgett titled “Amazed by His Grace: A Reflection on Life’s Adventures.” Enjoy a relaxed atmosphere with dinner and margaritas served (BYO Wine)\, meaningful conversation\, and the warmth of community.  \n\n\n\nPlease RSVP by April 30 to cweeharding@gmail.com. \n\n\n\nFree will offerings are appreciated. We look forward to sharing this uplifting evening with you!
URL:https://www.ssj.org/event/women-creating-community-spring-fling/
ATTACH;FMTTYPE=image/png:https://www.ssj.org/wp-content/uploads/2026/04/Women-Creating-Community-Presentation.png
END:VEVENT
END:VCALENDAR