BEGIN:VCALENDAR
VERSION:2.0
PRODID:-//Saints Simon &amp; Jude Catholic Church - ECPv6.15.12.2//NONSGML v1.0//EN
CALSCALE:GREGORIAN
METHOD:PUBLISH
X-WR-CALNAME:Saints Simon &amp; Jude Catholic Church
X-ORIGINAL-URL:https://www.ssj.org
X-WR-CALDESC:Events for Saints Simon &amp; Jude Catholic Church
REFRESH-INTERVAL;VALUE=DURATION:PT1H
X-Robots-Tag:noindex
X-PUBLISHED-TTL:PT1H
BEGIN:VTIMEZONE
TZID:America/Los_Angeles
BEGIN:DAYLIGHT
TZOFFSETFROM:-0800
TZOFFSETTO:-0700
TZNAME:PDT
DTSTART:20250309T100000
END:DAYLIGHT
BEGIN:STANDARD
TZOFFSETFROM:-0700
TZOFFSETTO:-0800
TZNAME:PST
DTSTART:20251102T090000
END:STANDARD
BEGIN:DAYLIGHT
TZOFFSETFROM:-0800
TZOFFSETTO:-0700
TZNAME:PDT
DTSTART:20260308T100000
END:DAYLIGHT
BEGIN:STANDARD
TZOFFSETFROM:-0700
TZOFFSETTO:-0800
TZNAME:PST
DTSTART:20261101T090000
END:STANDARD
BEGIN:DAYLIGHT
TZOFFSETFROM:-0800
TZOFFSETTO:-0700
TZNAME:PDT
DTSTART:20270314T100000
END:DAYLIGHT
BEGIN:STANDARD
TZOFFSETFROM:-0700
TZOFFSETTO:-0800
TZNAME:PST
DTSTART:20271107T090000
END:STANDARD
END:VTIMEZONE
BEGIN:VEVENT
DTSTART;TZID=America/Los_Angeles:20260125T103000
DTEND;TZID=America/Los_Angeles:20260125T123000
DTSTAMP:20260419T142506
CREATED:20251226T200321Z
LAST-MODIFIED:20260105T183401Z
UID:10000834-1769337000-1769344200@www.ssj.org
SUMMARY:School Open House
DESCRIPTION:You’re invited to Saints Simon & Jude Catholic School’s Open House on Thursday\, January 29 from 10:30 AM–12:30 PM!  \n\n\n\nCome see what makes SSJ special—our strong foundation in faith\, knowledge\, and service\, small class sizes\, and welcoming campus community. Meet our dedicated teachers\, tour classrooms\, explore our academic programs and specials\, and learn how we partner with families to help students thrive. We look forward to welcoming you on campus! \n\n\n\nFor more information or to schedule a tour\, visit ssjschool.org\, follow @ssjcatholicschool\, or call (714) 962-4451.
URL:https://www.ssj.org/event/school-open-house/
ATTACH;FMTTYPE=image/png:https://www.ssj.org/wp-content/uploads/2025/12/OPEN-HOUSE.png
END:VEVENT
BEGIN:VEVENT
DTSTART;TZID=America/Los_Angeles:20260126T183000
DTEND;TZID=America/Los_Angeles:20260126T200000
DTSTAMP:20260419T142506
CREATED:20250821T192254Z
LAST-MODIFIED:20260306T190536Z
UID:10000775-1769452200-1769457600@www.ssj.org
SUMMARY:Women's Bible Study
DESCRIPTION:Women’s Bible Study is for all women!  We meet once a month at 7:00pm in the Youth Room.  It’s a great chance to hang out\, grow in faith\, and support each other in a relaxed and welcoming environment.  Each meeting includes scripture study\, small group discussions\, prayer time\, and fellowship. We hope you will join us!   \n\n\n\nContact:  \n\n\n\nReanna Liebl rliebl@ssj.org  \n\n\n\nOr\,  \n\n\n\nRhea Morenormoreno@ssj.org
URL:https://www.ssj.org/event/womens-bible-study/2026-01-26/
ATTACH;FMTTYPE=image/png:https://www.ssj.org/wp-content/uploads/2025/08/Untitled-design-53.png
END:VEVENT
BEGIN:VEVENT
DTSTART;TZID=America/Los_Angeles:20260129T183000
DTEND;TZID=America/Los_Angeles:20260129T203000
DTSTAMP:20260419T142506
CREATED:20251208T202052Z
LAST-MODIFIED:20260126T213858Z
UID:10000766-1769711400-1769718600@www.ssj.org
SUMMARY:Tapas & Theology
DESCRIPTION:All women18+ are invited to 4 Son’s Brewery in Huntington Beach for fellowship and theology!  Tapas is for women who want to share their faith life in a fun\, relaxed\, and casual atmosphere. The evenings include casual conversation\, a speaker\, and small group discussion. Please RSVP!  \n\n\n\nGuest Speaker: Jonna Schuster is the co-founder and director of Catholic Revival Ministries\, equipping Catholics to partner with the Holy Spirit for supernatural impact. A published author with 20+ years in ministry\, she has served globally through speaking\, teaching\, and spiritual coaching. She holds a master’s in moral theology from Christendom Graduate School and a B.F.A. in graphic design from the University of Illinois and is passionate about helping people step into their God-given identity and calling.
URL:https://www.ssj.org/event/tapas-theology-5/
LOCATION:4 Sons Brewing\, 18421 Gothard St Suite 100 8\, Huntington Beach\, CA\, 92646\, United States
ATTACH;FMTTYPE=image/png:https://www.ssj.org/wp-content/uploads/2025/12/Tacos-10.png
END:VEVENT
BEGIN:VEVENT
DTSTART;TZID=America/Los_Angeles:20260131T170000
DTEND;TZID=America/Los_Angeles:20260131T190000
DTSTAMP:20260419T142506
CREATED:20250903T163232Z
LAST-MODIFIED:20250903T163323Z
UID:10000781-1769878800-1769886000@www.ssj.org
SUMMARY:Family Faith Night
DESCRIPTION:Family Faith Night: Dinner\, Fellowship\, and Formation\n\n\n\nCLICK HERE to RSVP! \n\n\n\nWe are here to walk alongside parents and families in every step of their faith journey. A child’s earliest and most meaningful experience of God’s love\, provision\, and forgiveness begins at home\, where faith is nurtured through everyday family life. \n\n\n\nModeled after the Holy Family\, Catholic families are called to be the living Church in the world—sharing Christ’s love through daily witness and fostering faith within their homes. \n\n\n\nFamily Faith Nights bring this calling to life by gathering families for a shared meal\, joyful fellowship\, and faith formation. Together\, parents and children encounter Christ\, strengthen their relationship with Him\, and deepen their lifelong connection with the Church and parish community.
URL:https://www.ssj.org/event/family-faith-night-2/
ATTACH;FMTTYPE=image/png:https://www.ssj.org/wp-content/uploads/2025/08/Lenten-Family-Faith-Night-Slides.png
END:VEVENT
END:VCALENDAR