BEGIN:VCALENDAR
VERSION:2.0
PRODID:-//Saints Simon &amp; Jude Catholic Church - ECPv6.15.12.2//NONSGML v1.0//EN
CALSCALE:GREGORIAN
METHOD:PUBLISH
X-WR-CALNAME:Saints Simon &amp; Jude Catholic Church
X-ORIGINAL-URL:https://www.ssj.org
X-WR-CALDESC:Events for Saints Simon &amp; Jude Catholic Church
REFRESH-INTERVAL;VALUE=DURATION:PT1H
X-Robots-Tag:noindex
X-PUBLISHED-TTL:PT1H
BEGIN:VTIMEZONE
TZID:America/Los_Angeles
BEGIN:DAYLIGHT
TZOFFSETFROM:-0800
TZOFFSETTO:-0700
TZNAME:PDT
DTSTART:20250309T100000
END:DAYLIGHT
BEGIN:STANDARD
TZOFFSETFROM:-0700
TZOFFSETTO:-0800
TZNAME:PST
DTSTART:20251102T090000
END:STANDARD
BEGIN:DAYLIGHT
TZOFFSETFROM:-0800
TZOFFSETTO:-0700
TZNAME:PDT
DTSTART:20260308T100000
END:DAYLIGHT
BEGIN:STANDARD
TZOFFSETFROM:-0700
TZOFFSETTO:-0800
TZNAME:PST
DTSTART:20261101T090000
END:STANDARD
BEGIN:DAYLIGHT
TZOFFSETFROM:-0800
TZOFFSETTO:-0700
TZNAME:PDT
DTSTART:20270314T100000
END:DAYLIGHT
BEGIN:STANDARD
TZOFFSETFROM:-0700
TZOFFSETTO:-0800
TZNAME:PST
DTSTART:20271107T090000
END:STANDARD
END:VTIMEZONE
BEGIN:VEVENT
DTSTART;TZID=America/Los_Angeles:20260111T093000
DTEND;TZID=America/Los_Angeles:20260111T103000
DTSTAMP:20260419T142456
CREATED:20250830T002702Z
LAST-MODIFIED:20250830T002759Z
UID:10000787-1768123800-1768127400@www.ssj.org
SUMMARY:Family Mass
DESCRIPTION:Worship\, Connect\, and Grow Together! \n\n\n\nJoin us for Family Mass once a month\, where families come together to celebrate the Eucharist in a joyful\, welcoming\, and engaging way! This special liturgy features youth participation\, uplifting music\, and a message that speaks to both children and adults.  \n\n\n\nOn select Sundays\, stay for family activities and a delicious breakfast\, providing a wonderful opportunity for fellowship\, connection\, and growing in faith as a parish family.  \n\n\n\nFor more information on our SSJ Kid’s Ministry Offerings please contact: \n\n\n\nRhea Moreno\, Director of Faith Formation & Family Ministry \n\n\n\nrmoreno@ssj.org
URL:https://www.ssj.org/event/family-mass/2026-01-11/
ATTACH;FMTTYPE=image/png:https://www.ssj.org/wp-content/uploads/2025/08/Family-Mass.png
END:VEVENT
BEGIN:VEVENT
DTSTART;TZID=America/Los_Angeles:20260113T183000
DTEND;TZID=America/Los_Angeles:20260113T203000
DTSTAMP:20260419T142456
CREATED:20260109T232317Z
LAST-MODIFIED:20260110T003139Z
UID:10000758-1768329000-1768336200@www.ssj.org
SUMMARY:Tacos & Theology
DESCRIPTION:All men 18+ are invited to 4 Son’s Brewery in Huntington Beach for fellowship and theology!  Tacos & Theology is for men who want to share their faith life in a fun\, relaxed\, and casual atmosphere. The evenings include casual conversation\, a speaker\, and small group discussion. Please RSVP!
URL:https://www.ssj.org/event/tacos-theology-5/
LOCATION:4 Sons Brewing\, 18421 Gothard St Suite 100 8\, Huntington Beach\, CA\, 92646\, United States
ATTACH;FMTTYPE=image/png:https://www.ssj.org/wp-content/uploads/2025/06/Tacos-.png
END:VEVENT
BEGIN:VEVENT
DTSTART;TZID=America/Los_Angeles:20260114T090000
DTEND;TZID=America/Los_Angeles:20260114T110000
DTSTAMP:20260419T142456
CREATED:20251226T192652Z
LAST-MODIFIED:20251226T193445Z
UID:10000831-1768381200-1768388400@www.ssj.org
SUMMARY:Women Creating Community
DESCRIPTION:Join us as parishioners Louise Nakamine and Bret Smith share their lifelong calling to serve through ministry. Hear how they are fulfilling this through the Mission Outreach Ministry and be inspired by their stories of faith in action. Light refreshments will be provided. Join us in the Franciscan Room – bring friends!
URL:https://www.ssj.org/event/women-creating-community/
ATTACH;FMTTYPE=image/png:https://www.ssj.org/wp-content/uploads/2025/12/Be-Inspired-by-a-Life-Devoted-to-Ministry.png
END:VEVENT
BEGIN:VEVENT
DTSTART;TZID=America/Los_Angeles:20260114T153000
DTEND;TZID=America/Los_Angeles:20260114T163000
DTSTAMP:20260419T142456
CREATED:20251226T195309Z
LAST-MODIFIED:20251226T195310Z
UID:10000833-1768404600-1768408200@www.ssj.org
SUMMARY:TK & Kinder Playdate
DESCRIPTION:Join us for a fun TK & Kinder Play Date at Saints Simon & Jude Catholic School on Wednesday\, January 14\, 2026\, from 3:30–4:30 PM.  \n\n\n\nCome explore our campus\, meet our teachers\, tour the classrooms\, and enjoy playtime with friends—plus snacks and goodie bags! You’ll also learn more about the benefits of a faith-based education and how to begin the admissions process.  \n\n\n\nPlease RSVP by January 10\, 2026 to bminter@ssjschool.org
URL:https://www.ssj.org/event/tk-kinder-playdate/
ATTACH;FMTTYPE=image/png:https://www.ssj.org/wp-content/uploads/2025/12/Untitled-design-86.png
END:VEVENT
BEGIN:VEVENT
DTSTART;TZID=America/Los_Angeles:20260114T183000
DTEND;TZID=America/Los_Angeles:20260114T200000
DTSTAMP:20260419T142456
CREATED:20250801T202310Z
LAST-MODIFIED:20250810T190210Z
UID:10000681-1768415400-1768420800@www.ssj.org
SUMMARY:Baptism Prep Class
DESCRIPTION:Baptism is the formal way in which we welcome families and infants (ages 0-6) into our Catholic-Christian community. It marks the beginning of a sacramental faith journey for the child and is an important celebration for the family. For both parents and Godparents\, preparing for Baptism is an opportunity to renew and deepen their own faith journey. It is also a special moment for our parish community to welcome new members into the life of the Church.  \n\n\n\nFirst Steps to Baptism \n\n\n\n\nContact the Coordinator of OCIA/BaptismReach out to Denise Quackenbush at dquackenbush@ssj.org to schedule a brief consultation to begin the registration process. \n\n\n\nComplete the Registration Form Fill out the Baptism Registration Form and return it to the Parish Office along with your child’s Birth Certificate. If you are not already a registered family at Saints Simon & Jude\, please complete the Parish Registration Form as well. \n\n\n\nRegister for a Baptism Preparation Class Both parents and Godparents are required to participate in the Baptism Preparation Class.\n\n\n\n\nWe look forward to celebrating this sacred moment with your family and welcoming your child into the Catholic faith! 
URL:https://www.ssj.org/event/baptism-prep-calss/2026-01-14/
ATTACH;FMTTYPE=image/png:https://www.ssj.org/wp-content/uploads/2025/08/Baptism-Prep-Class-5.png
END:VEVENT
BEGIN:VEVENT
DTSTART;TZID=America/Los_Angeles:20260115T190000
DTEND;TZID=America/Los_Angeles:20260115T203000
DTSTAMP:20260419T142456
CREATED:20250830T005135Z
LAST-MODIFIED:20260304T220519Z
UID:10000851-1768503600-1768509000@www.ssj.org
SUMMARY:SSJ Men's Club General Meeting
DESCRIPTION:ALL MEN ARE WELCOME!\n\n\n\nThe Men’s Club at Saints Simon and Jude is open to all men looking to grow in faith\, serve the community\, and forge lasting connections. Through service projects\, scripture studies\, and social activities\, members strengthen their connection to God and one another.  \n\n\n\nWe meet on the second Thursday of every month at 7:00 PM for an engaging speaker and a delicious meal prepared by club members. It’s a great opportunity to meet fellow parishioners\, share in faith-filled discussions\, and get involved in parish life. 
URL:https://www.ssj.org/event/ssj-mens-club-general-meeting/2026-01-15/
ATTACH;FMTTYPE=image/png:https://www.ssj.org/wp-content/uploads/2025/08/SSJ-Mens-Club-General-Meeting-2.png
END:VEVENT
BEGIN:VEVENT
DTSTART;TZID=America/Los_Angeles:20260116T190000
DTEND;TZID=America/Los_Angeles:20260116T203000
DTSTAMP:20260419T142456
CREATED:20250830T003712Z
LAST-MODIFIED:20250830T003714Z
UID:10000795-1768590000-1768595400@www.ssj.org
SUMMARY:Middle School Ministry Youth Nights
DESCRIPTION:Youth Nights are a fantastic way to build a Catholic community\, offering middle school kids a unique opportunity to grow in their faith while having fun and building lasting friendships. These events foster a sense of belonging and encourage personal and spiritual growth during a crucial stage of their development.  \n\n\n\nYouth Nights are held approximately every third Friday of the month from 7:00 to 8:30 PM. You don’t need to be in Middle School Faith Formation or even be Catholic to join—everyone is welcome! Bring a friend and join the fun!  \n\n\n\nContact:Rhea Moreno\, Director of Faith Formation & Family Ministriesrmoreno@ssj.org
URL:https://www.ssj.org/event/middle-school-ministry-youth-nights/2026-01-16/
ATTACH;FMTTYPE=image/png:https://www.ssj.org/wp-content/uploads/2025/08/YOUTH-NIGHT-Calendar-2025-26-POSTCARD-Presentation.png
END:VEVENT
END:VCALENDAR