BEGIN:VCALENDAR
VERSION:2.0
PRODID:-//Saints Simon &amp; Jude Catholic Church - ECPv6.15.12.2//NONSGML v1.0//EN
CALSCALE:GREGORIAN
METHOD:PUBLISH
X-WR-CALNAME:Saints Simon &amp; Jude Catholic Church
X-ORIGINAL-URL:https://www.ssj.org
X-WR-CALDESC:Events for Saints Simon &amp; Jude Catholic Church
REFRESH-INTERVAL;VALUE=DURATION:PT1H
X-Robots-Tag:noindex
X-PUBLISHED-TTL:PT1H
BEGIN:VTIMEZONE
TZID:America/Los_Angeles
BEGIN:DAYLIGHT
TZOFFSETFROM:-0800
TZOFFSETTO:-0700
TZNAME:PDT
DTSTART:20240310T100000
END:DAYLIGHT
BEGIN:STANDARD
TZOFFSETFROM:-0700
TZOFFSETTO:-0800
TZNAME:PST
DTSTART:20241103T090000
END:STANDARD
BEGIN:DAYLIGHT
TZOFFSETFROM:-0800
TZOFFSETTO:-0700
TZNAME:PDT
DTSTART:20250309T100000
END:DAYLIGHT
BEGIN:STANDARD
TZOFFSETFROM:-0700
TZOFFSETTO:-0800
TZNAME:PST
DTSTART:20251102T090000
END:STANDARD
BEGIN:DAYLIGHT
TZOFFSETFROM:-0800
TZOFFSETTO:-0700
TZNAME:PDT
DTSTART:20260308T100000
END:DAYLIGHT
BEGIN:STANDARD
TZOFFSETFROM:-0700
TZOFFSETTO:-0800
TZNAME:PST
DTSTART:20261101T090000
END:STANDARD
END:VTIMEZONE
BEGIN:VEVENT
DTSTART;TZID=America/Los_Angeles:20251130T080000
DTEND;TZID=America/Los_Angeles:20251221T170000
DTSTAMP:20260421T123956
CREATED:20251112T210339Z
LAST-MODIFIED:20251203T005051Z
UID:10000816-1764489600-1766336400@www.ssj.org
SUMMARY:Advent 2025 - Be Still.
DESCRIPTION:Lord\, quiet my soul amid the noise of the season. As I rest in Your presence\, prepare my heart to carry Your peace into the world. May my stillness become a living witness of Your love. – Amen \n\n\n\nIn the midst of a hurried world\, Advent whispers a gentle invitation: Be still. It’s a sacred slowing\, a holy pause that draws us into God’s presence. “Be still” is not inactivity; it’s receptivity. In the quiet\, we make space for Christ to renew our hearts and remind us of what truly matters. \n\n\n\nWhen we prepare our hearts in stillness\, we make room for Christ to dwell more deeply within us. From that quiet center\, His love overflows\, guiding our words\, actions\, and presence in the world. A still heart becomes a radiant heart\, one that can share faith naturally and reflect Jesus to others through compassion\, patience\, and peace. \n\n\n\nPlease join your Saints Simon and Jude Parish Community in all our Advent offerings as together we quiet our hearts\, let the peace of Christ’s promise bring us joy and hope\, feel His love\, and be still. \n\n\n\nSunday\, November 15- 16: Mission Outreach Advent Giving Tags Available \n\n\n\nThank you for your generous support providing peace\, hope\, joy and love to those in need. If you picked up an Advent Giving Tag\, please see the schedule below as to when to return your gift. Click Here for the Mission Outreach Calendar. \n\n\n\n\n– Thomas House\, Serving at Risk Families\n\nWednesday\, December 10\n\n\n\n\n\n– Share Ourselves\, Adopt-a- Family\n\nWednesday\, December 10\n\n\n\n\n\n– Sea Cliff Assisted Living\, Senior Living Community\n\nSunday\, December 14\n\n\n\n\n\n– Share Ourselves\, Social Services\n\nThursday\, December 18\n\n\n\n\n\n– HB Navigation Center\, Serving the Unhoused\n\nThursday\, December 18\n\n\n\n\n\n\n \n\n\n\nSunday\, November 30: 9:30am Advent Family Mass\n\n\n\nPlease join us for a wonderful morning celebrating the coming of our Savior! We’ll kick off Advent together with a Pancake Breakfast\, Advent Wreath Workshop\, and Santa Photos! Click Here to Sign Up!  \n\n\n\nMonday\, December 1: Hallow Prayer Challenge Advent 25 Begins\n\n\n\nThis Advent\, we invite you to discover deeper stillness amidst the chaos of the holiday season\, just as Mary did that first Christmas. Join your SSJ Community as we dive into the story of the Nativity through reflections on the infancy narratives\, powerful excerpts from The Reed of God by Caryll Houselander and The Ruthless Elimination of Hurry by John Mark Comer\, and moments of silence and contemplative prayer. Click Here to join the SSJ Hallow Prayer Challenge! \n\n\n\n \n\n\n\nFriday\, December 5: 7:00pm Taizé Prayer Service- Be Still.\n\n\n\nMonday\, December 8:8:18am & 7:00pm Immaculate Conception Mass\n\n\n\n \n\n\n\nFriday\, December 12:  7:00pm Advent Concert\n\n\n\n \n\n\n\nTuesday\, December 16: 7:00pm Penance Service\n\n\n\n \n\n\n\nWednesday\, December 17:  7:00pm XTL – Worship\, Music\, Message\n\n\n\n\n“Be still\, and know that I am God.” — Psalm 46:10
URL:https://www.ssj.org/event/advent-2025-be-still/
ATTACH;FMTTYPE=image/png:https://www.ssj.org/wp-content/uploads/2025/11/Advent-2025-Be-Still.png
END:VEVENT
BEGIN:VEVENT
DTSTART;TZID=America/Los_Angeles:20251208T000000
DTEND;TZID=America/Los_Angeles:20251208T235959
DTSTAMP:20260421T123956
CREATED:20251203T224935Z
LAST-MODIFIED:20251203T224937Z
UID:10000823-1765152000-1765238399@www.ssj.org
SUMMARY:Immaculate Conception of the Blessed Virgin Mary
DESCRIPTION:Please join us for Mass on December 8th as we celebrate the Immaculate Conception of the Blessed Virgin Mary\, a Holy Day of Obligation in the Church. On this feast\, we honor Mary’s unique grace of being conceived without original sin\, preparing her to become the mother of our Savior. Mass will be offered at 8:15am and 7:00pm. \n\n\n\nWe also invite all women to gather in our newly remodeled prayer garden at 6:30pm to pray the rosary before the evening Mass\, as we prepare our hearts during this season of Advent. Together\, we strive to model the virtues of our Blessed Mother\, including her faith\, humility\, and openness to God’s will\, as we await the coming of Christ.
URL:https://www.ssj.org/event/immaculate-conception-of-the-blessed-virgin-mary/
ATTACH;FMTTYPE=image/png:https://www.ssj.org/wp-content/uploads/2025/12/Advent-Taize-Prayer-Service-Presentation-1.png
END:VEVENT
BEGIN:VEVENT
DTSTART;TZID=America/Los_Angeles:20251209T190000
DTEND;TZID=America/Los_Angeles:20251222T200000
DTSTAMP:20260421T123956
CREATED:20251203T211304Z
LAST-MODIFIED:20251203T211307Z
UID:10000819-1765306800-1766433600@www.ssj.org
SUMMARY:Advent Penance Services
DESCRIPTION:The Sacrament of Reconciliation is a truly beautiful gift\, especially during Advent\, as we prepare our hearts to welcome our Savior\, Christ our Lord. In this season of hope and expectation\, we are invited to “let every heart prepare Him room” by seeking God’s mercy\, peace\, and healing. Our deanery offers several Advent Penance Services to help us enter more deeply into this sacred preparation\, and we encourage you to attend the Penance Service with your Saints Simon and Jude community on December 16 at 7:00pm.  \n\n\n\nAdditional opportunities for confession include:  \n\n\n\nSt. Bonaventure – December 9\, 7:00pm  \n\n\n\nHoly Spirit – December 10\, 7:00pm  \n\n\n\nSt. Mary by the Sea – December 15\, 7:00pm  \n\n\n\nSt. Joachim – December 17\, 7:00pm  \n\n\n\nSt. John the Baptist – December 22\, 7:00pm \n\n\n\nMay these moments of grace help us draw closer to the Lord as Christmas approaches.
URL:https://www.ssj.org/event/advent-penance-services/
ATTACH;FMTTYPE=image/png:https://www.ssj.org/wp-content/uploads/2025/12/2.png
END:VEVENT
BEGIN:VEVENT
DTSTART;TZID=America/Los_Angeles:20251210T183000
DTEND;TZID=America/Los_Angeles:20251210T200000
DTSTAMP:20260421T123956
CREATED:20250801T202310Z
LAST-MODIFIED:20250810T190210Z
UID:10000680-1765391400-1765396800@www.ssj.org
SUMMARY:Baptism Prep Class
DESCRIPTION:Baptism is the formal way in which we welcome families and infants (ages 0-6) into our Catholic-Christian community. It marks the beginning of a sacramental faith journey for the child and is an important celebration for the family. For both parents and Godparents\, preparing for Baptism is an opportunity to renew and deepen their own faith journey. It is also a special moment for our parish community to welcome new members into the life of the Church.  \n\n\n\nFirst Steps to Baptism \n\n\n\n\nContact the Coordinator of OCIA/BaptismReach out to Denise Quackenbush at dquackenbush@ssj.org to schedule a brief consultation to begin the registration process. \n\n\n\nComplete the Registration Form Fill out the Baptism Registration Form and return it to the Parish Office along with your child’s Birth Certificate. If you are not already a registered family at Saints Simon & Jude\, please complete the Parish Registration Form as well. \n\n\n\nRegister for a Baptism Preparation Class Both parents and Godparents are required to participate in the Baptism Preparation Class.\n\n\n\n\nWe look forward to celebrating this sacred moment with your family and welcoming your child into the Catholic faith! 
URL:https://www.ssj.org/event/baptism-prep-calss/2025-12-10/
ATTACH;FMTTYPE=image/png:https://www.ssj.org/wp-content/uploads/2025/08/Baptism-Prep-Class-5.png
END:VEVENT
BEGIN:VEVENT
DTSTART;TZID=America/Los_Angeles:20251212T183000
DTEND;TZID=America/Los_Angeles:20251212T210000
DTSTAMP:20260421T123956
CREATED:20251203T212130Z
LAST-MODIFIED:20251203T223458Z
UID:10000820-1765564200-1765573200@www.ssj.org
SUMMARY:Parish Christmas Concert
DESCRIPTION:Join us for our Parish Christmas Concert on Friday\, December 12 at 7:00 pm in the church! Come share in the joy of the promise of Christmas as we sing beloved traditional Christmas songs and celebrate the birth of our Savior. After the concert\, enjoy photos with Santa\, cookies\, and hot chocolate for the whole family.
URL:https://www.ssj.org/event/christmas-concert-womens-rosary/
ATTACH;FMTTYPE=image/png:https://www.ssj.org/wp-content/uploads/2025/12/Advent-Taize-Prayer-Service-Presentation.png
END:VEVENT
BEGIN:VEVENT
DTSTART;TZID=America/Los_Angeles:20251212T190000
DTEND;TZID=America/Los_Angeles:20251212T203000
DTSTAMP:20260421T123956
CREATED:20251203T214450Z
LAST-MODIFIED:20251203T214451Z
UID:10000794-1765566000-1765571400@www.ssj.org
SUMMARY:Middle School Ministry Youth Nights
DESCRIPTION:Youth Nights are a fantastic way to build a Catholic community\, offering middle school kids a unique opportunity to grow in their faith while having fun and building lasting friendships. These events foster a sense of belonging and encourage personal and spiritual growth during a crucial stage of their development.  \n\n\n\nYouth Nights are held approximately every third Friday of the month from 7:00 to 8:30 PM. You don’t need to be in Middle School Faith Formation or even be Catholic to join—everyone is welcome! Bring a friend and join the fun!  \n\n\n\nContact:Rhea Moreno\, Director of Faith Formation & Family Ministriesrmoreno@ssj.org
URL:https://www.ssj.org/event/middle-school-ministry-youth-nights-3/
ATTACH;FMTTYPE=image/png:https://www.ssj.org/wp-content/uploads/2025/08/Middle-School-Christmas-Youth-Night-Flyer-Presentation.png
END:VEVENT
END:VCALENDAR