BEGIN:VCALENDAR
VERSION:2.0
PRODID:-//Saints Simon &amp; Jude Catholic Church - ECPv6.15.12.2//NONSGML v1.0//EN
CALSCALE:GREGORIAN
METHOD:PUBLISH
X-WR-CALNAME:Saints Simon &amp; Jude Catholic Church
X-ORIGINAL-URL:https://www.ssj.org
X-WR-CALDESC:Events for Saints Simon &amp; Jude Catholic Church
REFRESH-INTERVAL;VALUE=DURATION:PT1H
X-Robots-Tag:noindex
X-PUBLISHED-TTL:PT1H
BEGIN:VTIMEZONE
TZID:America/Los_Angeles
BEGIN:DAYLIGHT
TZOFFSETFROM:-0800
TZOFFSETTO:-0700
TZNAME:PDT
DTSTART:20250309T100000
END:DAYLIGHT
BEGIN:STANDARD
TZOFFSETFROM:-0700
TZOFFSETTO:-0800
TZNAME:PST
DTSTART:20251102T090000
END:STANDARD
BEGIN:DAYLIGHT
TZOFFSETFROM:-0800
TZOFFSETTO:-0700
TZNAME:PDT
DTSTART:20260308T100000
END:DAYLIGHT
BEGIN:STANDARD
TZOFFSETFROM:-0700
TZOFFSETTO:-0800
TZNAME:PST
DTSTART:20261101T090000
END:STANDARD
BEGIN:DAYLIGHT
TZOFFSETFROM:-0800
TZOFFSETTO:-0700
TZNAME:PDT
DTSTART:20270314T100000
END:DAYLIGHT
BEGIN:STANDARD
TZOFFSETFROM:-0700
TZOFFSETTO:-0800
TZNAME:PST
DTSTART:20271107T090000
END:STANDARD
END:VTIMEZONE
BEGIN:VEVENT
DTSTART;TZID=America/Los_Angeles:20260321T000000
DTEND;TZID=America/Los_Angeles:20260327T235959
DTSTAMP:20260420T213244
CREATED:20260317T034046Z
LAST-MODIFIED:20260317T034048Z
UID:10000859-1774051200-1774655999@www.ssj.org
SUMMARY:Lenten Outreach
DESCRIPTION:Continuing our parish tradition\, the Saints Simon and Jude Outreach Ministry will host a weekly donation drive throughout Lent. Your almsgiving supports local charitable organizations by providing the essential supplies they need to continue their mission and care for our neighbors in need. \n\n\n\nCollections will take place before and after every weekend Mass. If you feel called to make a monetary donation\, please scan the QR Code. Thank you for your generosity! \n\n\n\nFifth Sunday of Lent: March 21-27 \n\n\n\nLoaves and Fishes: Serves approximately 300 unhoused and food-insecure individuals and families by distributing food twice each month. We’re supporting our neighbors in need by donating essential food items to help sustain them with dignity and care. \n\n\n\n\nPinto Beans (4lb bags)\n\n\n\nWhite Rice (5lb bags)\n\n\n\nPeanut Butter (48 oz)\n\n\n\nJam (any size\, strawberry preferred)\n\n\n\nCanned Tuna (any size)\n\n\n\nMayonnaise (30 oz size)\n\n\n\nCardboard Canisters of Quaker Oats\n\n\n\nBoxes of Macaroni & Cheese\n\n\n\n\nAs we journey through Lent and hear the call to Return to the Father\, we are reminded that coming home to His mercy must change the way we live. Scripture teaches that faith without action is dead. If we are truly returning to the Father\, our faith must move us to care for our brothers and sisters in their physical needs\, reflecting His compassion through concrete acts of love. \n\n\n\nFor questions or more information\, please email Louise Nakamine: lnakamine@ssj.org
URL:https://www.ssj.org/event/lenten-outreach-3/
ATTACH;FMTTYPE=image/png:https://www.ssj.org/wp-content/uploads/2026/03/Ash-Wednesday-February-18-2026-Presentation-10.png
END:VEVENT
END:VCALENDAR