BEGIN:VCALENDAR
VERSION:2.0
PRODID:-//Saints Simon &amp; Jude Catholic Church - ECPv6.15.12.2//NONSGML v1.0//EN
CALSCALE:GREGORIAN
METHOD:PUBLISH
X-WR-CALNAME:Saints Simon &amp; Jude Catholic Church
X-ORIGINAL-URL:https://www.ssj.org
X-WR-CALDESC:Events for Saints Simon &amp; Jude Catholic Church
REFRESH-INTERVAL;VALUE=DURATION:PT1H
X-Robots-Tag:noindex
X-PUBLISHED-TTL:PT1H
BEGIN:VTIMEZONE
TZID:America/Los_Angeles
BEGIN:DAYLIGHT
TZOFFSETFROM:-0800
TZOFFSETTO:-0700
TZNAME:PDT
DTSTART:20250309T100000
END:DAYLIGHT
BEGIN:STANDARD
TZOFFSETFROM:-0700
TZOFFSETTO:-0800
TZNAME:PST
DTSTART:20251102T090000
END:STANDARD
BEGIN:DAYLIGHT
TZOFFSETFROM:-0800
TZOFFSETTO:-0700
TZNAME:PDT
DTSTART:20260308T100000
END:DAYLIGHT
BEGIN:STANDARD
TZOFFSETFROM:-0700
TZOFFSETTO:-0800
TZNAME:PST
DTSTART:20261101T090000
END:STANDARD
BEGIN:DAYLIGHT
TZOFFSETFROM:-0800
TZOFFSETTO:-0700
TZNAME:PDT
DTSTART:20270314T100000
END:DAYLIGHT
BEGIN:STANDARD
TZOFFSETFROM:-0700
TZOFFSETTO:-0800
TZNAME:PST
DTSTART:20271107T090000
END:STANDARD
END:VTIMEZONE
BEGIN:VEVENT
DTSTART;TZID=America/Los_Angeles:20260129T183000
DTEND;TZID=America/Los_Angeles:20260129T203000
DTSTAMP:20260419T052311
CREATED:20251208T202052Z
LAST-MODIFIED:20260126T213858Z
UID:10000766-1769711400-1769718600@www.ssj.org
SUMMARY:Tapas & Theology
DESCRIPTION:All women18+ are invited to 4 Son’s Brewery in Huntington Beach for fellowship and theology!  Tapas is for women who want to share their faith life in a fun\, relaxed\, and casual atmosphere. The evenings include casual conversation\, a speaker\, and small group discussion. Please RSVP!  \n\n\n\nGuest Speaker: Jonna Schuster is the co-founder and director of Catholic Revival Ministries\, equipping Catholics to partner with the Holy Spirit for supernatural impact. A published author with 20+ years in ministry\, she has served globally through speaking\, teaching\, and spiritual coaching. She holds a master’s in moral theology from Christendom Graduate School and a B.F.A. in graphic design from the University of Illinois and is passionate about helping people step into their God-given identity and calling.
URL:https://www.ssj.org/event/tapas-theology-5/
LOCATION:4 Sons Brewing\, 18421 Gothard St Suite 100 8\, Huntington Beach\, CA\, 92646\, United States
ATTACH;FMTTYPE=image/png:https://www.ssj.org/wp-content/uploads/2025/12/Tacos-10.png
END:VEVENT
END:VCALENDAR